BEGIN:VCALENDAR
VERSION:2.0
PRODID:-//eventon.com NONSGML v1.0//EN
CALSCALE:GREGORIAN
METHOD:PUBLISH
BEGIN:VEVENT
UID:69e97a7d2dead
DTSTAMP:20260423T014845Z
DTSTART:20260511T193000Z
DTEND:20260511T235900Z
LOCATION:Tafarn yr Heliwr Nefyn
SUMMARY:Peint a Sgwrs
DESCRIPTION:Yr Heliwr\,  Nefyn. Ail Nos Lun bob mis 19:30\,  croeso i bawb.
 \nhttp://croesocymraeg.cymru/croeso/events/peint-a-sgwrs-2/var/ri-15.l-L1
URL:http://croesocymraeg.cymru/croeso/events/peint-a-sgwrs-2/var/ri-15.l-L1
END:VEVENT
END:VCALENDAR