BEGIN:VCALENDAR
VERSION:2.0
PRODID:-//eventon.com NONSGML v1.0//EN
CALSCALE:GREGORIAN
METHOD:PUBLISH
BEGIN:VEVENT
UID:69ea500fc4d5c
DTSTAMP:20260423T165959Z
DTSTART:20261203T193000Z
DTEND:20261203T235900Z
LOCATION:Tafarn y Plu Llanystuwdwy
SUMMARY:Jamio
DESCRIPTION:Jamio\nhttp://croesocymraeg.cymru/croeso/events/jamio-3/var/ri-
 11.l-L1
URL:http://croesocymraeg.cymru/croeso/events/jamio-3/var/ri-11.l-L1
END:VEVENT
END:VCALENDAR