BEGIN:VCALENDAR
VERSION:2.0
PRODID:-//eventon.com NONSGML v1.0//EN
CALSCALE:GREGORIAN
METHOD:PUBLISH
BEGIN:VEVENT
UID:69e97a34a5d5e
DTSTAMP:20260423T014732Z
DTSTART:20260507T193000Z
DTEND:20260507T235900Z
LOCATION:Tafarn y Plu Llanystuwdwy
SUMMARY:Jamio
DESCRIPTION:Jamio\nhttp://croesocymraeg.cymru/croeso/events/jamio-3/var/ri-
 4.l-L1
URL:http://croesocymraeg.cymru/croeso/events/jamio-3/var/ri-4.l-L1
END:VEVENT
END:VCALENDAR