BEGIN:VCALENDAR
VERSION:2.0
PRODID:-//eventon.com NONSGML v1.0//EN
CALSCALE:GREGORIAN
METHOD:PUBLISH
BEGIN:VEVENT
UID:69e9e43ea916d
DTSTAMP:20260423T091958Z
DTSTART:20260806T193000Z
DTEND:20260806T235900Z
LOCATION:Tafarn y Plu Llanystuwdwy
SUMMARY:Jamio
DESCRIPTION:Jamio\nhttp://croesocymraeg.cymru/croeso/events/jamio-3/var/ri-
 7.l-L1
URL:http://croesocymraeg.cymru/croeso/events/jamio-3/var/ri-7.l-L1
END:VEVENT
END:VCALENDAR